BEGIN:VCALENDAR
VERSION:2.0
PRODID:-//ChamberMaster//Event Calendar 2.0//EN
METHOD:PUBLISH
X-PUBLISHED-TTL:P3D
REFRESH-INTERVAL:P3D
CALSCALE:GREGORIAN
BEGIN:VEVENT
DTSTART:20180209T003000Z
DTEND:20180209T023000Z
X-MICROSOFT-CDO-ALLDAYEVENT:FALSE
SUMMARY:Beginning Geneology
DESCRIPTION:Have you always wanted to trace your roots and learn more about your ancestors? Join us for this introduction to family history research. We will talk about the basics of research\, what records may be found online and in archives\, and how to stay organized. We will also explore a number of free and subscription websites. Handouts will be provided. Vicki Albu\, a life long resident of Dakota County and active member of the Dakota County Genealogical Society\, will instruct this course at the Goodhue County History Center. Vicki co-founded the Romanian Genealogy Society and works as an avid genealogist and historian. Her work includes a number of oral history and research projects.
X-ALT-DESC;FMTTYPE=text/html:Have you always wanted to trace your roots and learn more about your ancestors? Join us for this introduction to family history research. We will talk about the basics of research\, what records may be found online and in archives\, and how to stay organized. We will also explore a number of free and subscription websites. Handouts will be provided. Vicki Albu\, a life long resident of Dakota County and active member of the Dakota County Genealogical Society\, will instruct this course at the Goodhue County History Center. Vicki co-founded the Romanian Genealogy Society and works as an avid genealogist and historian. Her work includes a number of oral history and research projects.
LOCATION:Goodhue County History Center 1166 Oak Street Red Wing\, MN 55066
UID:e.621.6815
SEQUENCE:3
DTSTAMP:20260421T101324Z
URL:https://public.lakecity.org/events/details/beginning-geneology-6815
END:VEVENT

END:VCALENDAR
