BEGIN:VCALENDAR
VERSION:2.0
PRODID:-//ChamberMaster//Event Calendar 2.0//EN
METHOD:PUBLISH
X-PUBLISHED-TTL:P3D
REFRESH-INTERVAL:P3D
CALSCALE:GREGORIAN
BEGIN:VEVENT
DTSTART:20180307T000000Z
DTEND:20180307T000000Z
X-MICROSOFT-CDO-ALLDAYEVENT:FALSE
SUMMARY:Beginning Watercolor Class
DESCRIPTION:Registration has begun for spring watercolor classes at the Lake City Area Arts (LCAA) Center\, 220 East Chestnut Street. C Classes are designed to be multi-generational and are geared for the very beginner. Students should be at least 10 years old to participate. We will build on skills at each class\, so please do not sign up at this time if you have commitments that will keep you from attending.
X-ALT-DESC;FMTTYPE=text/html:Registration has begun for spring watercolor classes at the Lake City Area Arts (LCAA) Center\, 220 East Chestnut Street. C Classes are designed to be multi-generational and are geared for the very beginner. Students should be at least 10 years old to participate. We will build on skills at each class\, so please do not sign up at this time if you have commitments that will keep you from attending.
LOCATION:220 East Chestnut Street Lake City\, MN 55041
UID:e.621.6834
SEQUENCE:3
DTSTAMP:20260421T083719Z
URL:https://public.lakecity.org/events/details/beginning-watercolor-class-6834
END:VEVENT

END:VCALENDAR
