BEGIN:VCALENDAR
VERSION:2.0
PRODID:-//ChamberMaster//Event Calendar 2.0//EN
METHOD:PUBLISH
X-PUBLISHED-TTL:P3D
REFRESH-INTERVAL:P3D
CALSCALE:GREGORIAN
BEGIN:VEVENT
DTSTART:20140717T233000Z
DTEND:20140718T003000Z
X-MICROSOFT-CDO-ALLDAYEVENT:FALSE
SUMMARY:Being a Winner at the Starting Line\; The Mental Factors in Running
DESCRIPTION:Dr. David Asp is a clinical Psychologist with specialization in sports performance who will speak on the topic of the mental factors in running.  Dr. Asp has 35 years of experience of working with athletes and sport teams to improve their performance in sport. He has completed 15 marathons\, 3 Ironman triathlons and numerous  half marathons and triathlons\,10K and 5K races. This event is sponsored by the Walking Lake Pepin/Active Living committee
X-ALT-DESC;FMTTYPE=text/html:Dr. David Asp is a clinical Psychologist with specialization in sports performance who will speak on the topic of the mental factors in running. &nbsp\;Dr. Asp has 35 years of experience of working with athletes and sport teams to improve their performance in sport. He has completed 15 marathons\, 3 Ironman triathlons and numerous &nbsp\;half marathons and triathlons\,10K and 5K races. This event is sponsored by the Walking Lake Pepin/Active Living committee
LOCATION:Lake City Public Library Community room
UID:e.621.4044
SEQUENCE:3
DTSTAMP:20260425T160615Z
URL:https://public.lakecity.org/events/details/being-a-winner-at-the-starting-line-the-mental-factors-in-running-07-17-2014-4044
END:VEVENT

END:VCALENDAR
