BEGIN:VCALENDAR
VERSION:2.0
PRODID:-//ChamberMaster//Event Calendar 2.0//EN
METHOD:PUBLISH
X-PUBLISHED-TTL:P3D
REFRESH-INTERVAL:P3D
CALSCALE:GREGORIAN
BEGIN:VEVENT
DTSTART:20160827T213000Z
DTEND:20160827T213000Z
X-MICROSOFT-CDO-ALLDAYEVENT:FALSE
SUMMARY:Bethany Hog Roast
DESCRIPTION:Hog Roast\n\nPork Sandwiches\,\n\nSweet Corn and more\n\nDoor Prizes\n\nEveryone welcome
X-ALT-DESC;FMTTYPE=text/html:<div>Hog Roast</div>\n\n<div>Pork Sandwiches\,</div>\n\n<div>Sweet Corn and more</div>\n\n<div>Door Prizes</div>\n\n<div>Everyone welcome</div>\n
LOCATION:Bethany Lutheran Church Parking Lot
UID:e.621.5400
SEQUENCE:3
DTSTAMP:20260422T141609Z
URL:https://public.lakecity.org/events/details/bethany-hog-roast-08-27-2016-5400
END:VEVENT

END:VCALENDAR
