BEGIN:VCALENDAR
VERSION:2.0
PRODID:-//ChamberMaster//Event Calendar 2.0//EN
METHOD:PUBLISH
X-PUBLISHED-TTL:P3D
REFRESH-INTERVAL:P3D
CALSCALE:GREGORIAN
BEGIN:VEVENT
DTSTART:20150911T130000Z
DTEND:20150912T200000Z
X-MICROSOFT-CDO-ALLDAYEVENT:FALSE
SUMMARY:Bethany Lutheran Church Annual Rummage Sale
DESCRIPTION:Annual Rummage Sale Friday September 11th 8am ? 5pm Saturday September 12th 8am-3pm
X-ALT-DESC;FMTTYPE=text/html:Annual Rummage Sale Friday September 11th 8am ? 5pm Saturday September 12th 8am-3pm
LOCATION:525 South 6th St Lake City MN 55041
UID:e.621.4462
SEQUENCE:3
DTSTAMP:20260424T183358Z
URL:https://public.lakecity.org/events/details/bethany-lutheran-church-annual-rummage-sale-09-11-2015-4462
END:VEVENT

END:VCALENDAR
