BEGIN:VCALENDAR
VERSION:2.0
PRODID:-//ChamberMaster//Event Calendar 2.0//EN
METHOD:PUBLISH
X-PUBLISHED-TTL:P3D
REFRESH-INTERVAL:P3D
CALSCALE:GREGORIAN
BEGIN:VEVENT
DTSTART;VALUE=DATE:20141003
DTEND;VALUE=DATE:20141005
TRANSP:TRANSPARENT
X-MICROSOFT-CDO-ALLDAYEVENT:TRUE
SUMMARY:Bethany Lutheran Church Rummage Sale
DESCRIPTION:Bethany Lutheran Church Rummage Sale
X-ALT-DESC;FMTTYPE=text/html:Bethany Lutheran Church Rummage Sale
LOCATION:525 S. 6th St. Lake City
UID:e.621.4302
SEQUENCE:3
DTSTAMP:20260425T112103Z
URL:https://public.lakecity.org/events/details/bethany-lutheran-church-rummage-sale-10-03-2014-4302
END:VEVENT

END:VCALENDAR
