BEGIN:VCALENDAR
VERSION:2.0
PRODID:-//ChamberMaster//Event Calendar 2.0//EN
METHOD:PUBLISH
X-PUBLISHED-TTL:P3D
REFRESH-INTERVAL:P3D
CALSCALE:GREGORIAN
BEGIN:VEVENT
DTSTART:20160123T180000Z
DTEND:20160123T220000Z
X-MICROSOFT-CDO-ALLDAYEVENT:FALSE
SUMMARY:Bingo
DESCRIPTION:Bingo is back at the American Legion Clubrooms (224 S. Washington). Meal will be served at noon with bingo starting at 1:00 pm.
X-ALT-DESC;FMTTYPE=text/html:Bingo is back at the American Legion Clubrooms (224 S. Washington). Meal will be served at noon with bingo starting at 1:00 pm.
LOCATION:American Legion Clubrooms\, 224 S. Washington St.\, Lake City\, MN
UID:e.621.4543
SEQUENCE:3
DTSTAMP:20260424T120128Z
URL:https://public.lakecity.org/events/details/bingo-01-23-2016-4543
END:VEVENT

END:VCALENDAR
