BEGIN:VCALENDAR
VERSION:2.0
PRODID:-//ChamberMaster//Event Calendar 2.0//EN
METHOD:PUBLISH
X-PUBLISHED-TTL:P3D
REFRESH-INTERVAL:P3D
CALSCALE:GREGORIAN
BEGIN:VEVENT
DTSTART:20160206T180000Z
DTEND:20160206T213000Z
X-MICROSOFT-CDO-ALLDAYEVENT:FALSE
SUMMARY:Bingo
DESCRIPTION:
X-ALT-DESC;FMTTYPE=text/html:
LOCATION:American Legion Clubrooms 224 S. Washington Street Lake City\, MN 55041
UID:e.621.4549
SEQUENCE:3
DTSTAMP:20260424T115508Z
URL:https://public.lakecity.org/events/details/bingo-02-06-2016-4549
END:VEVENT

END:VCALENDAR
