BEGIN:VCALENDAR
VERSION:2.0
PRODID:-//ChamberMaster//Event Calendar 2.0//EN
METHOD:PUBLISH
X-PUBLISHED-TTL:P3D
REFRESH-INTERVAL:P3D
CALSCALE:GREGORIAN
BEGIN:VEVENT
DTSTART:20160220T170000Z
DTEND:20160220T193000Z
X-MICROSOFT-CDO-ALLDAYEVENT:FALSE
SUMMARY:Bingo
DESCRIPTION:Louis McCahill Unit # 110\, American Legion Auxiliary will have bingo 02/20/2016 at the Lake City Sportsmans Club from 11:00 AM to 1:30 PM in conjunction with their fishing contest.
X-ALT-DESC;FMTTYPE=text/html:Louis McCahill Unit # 110\, American Legion Auxiliary will have bingo 02/20/2016 at the Lake City Sportsmans Club from 11:00 AM to 1:30 PM in conjunction with their fishing contest.
LOCATION:Lake City Sportsmans Club
UID:e.621.4753
SEQUENCE:3
DTSTAMP:20260424T103245Z
URL:https://public.lakecity.org/events/details/bingo-02-20-2016-4753
END:VEVENT

END:VCALENDAR
