BEGIN:VCALENDAR
VERSION:2.0
PRODID:-//ChamberMaster//Event Calendar 2.0//EN
METHOD:PUBLISH
X-PUBLISHED-TTL:P3D
REFRESH-INTERVAL:P3D
CALSCALE:GREGORIAN
BEGIN:VEVENT
DTSTART:20160305T180000Z
DTEND:20160305T213000Z
X-MICROSOFT-CDO-ALLDAYEVENT:FALSE
SUMMARY:Bingo
DESCRIPTION:Bingo - lunch served from noon to 1:00 pm. Bingo from 1:00 pm. to 3:30 pm. (about)
X-ALT-DESC;FMTTYPE=text/html:Bingo - lunch served from noon to 1:00 pm. Bingo from 1:00 pm. to 3:30 pm. (about)
LOCATION:American Legion Clubrooms 224 S. Washington St. Lake City\, MN 55041
UID:e.621.4780
SEQUENCE:3
DTSTAMP:20260424T084856Z
URL:https://public.lakecity.org/events/details/bingo-03-05-2016-4780
END:VEVENT

END:VCALENDAR
