BEGIN:VCALENDAR
VERSION:2.0
PRODID:-//ChamberMaster//Event Calendar 2.0//EN
METHOD:PUBLISH
X-PUBLISHED-TTL:P3D
REFRESH-INTERVAL:P3D
CALSCALE:GREGORIAN
BEGIN:VEVENT
DTSTART:20150307T010000Z
DTEND:20150307T030000Z
X-MICROSOFT-CDO-ALLDAYEVENT:FALSE
SUMMARY:BINGO
DESCRIPTION:BINGO - Sponsored by the Lake City Athletic Booster Club
X-ALT-DESC;FMTTYPE=text/html:BINGO - Sponsored by the Lake City Athletic Booster Club
LOCATION:Lake City Sportsman's Club - Upstairs\, 2200 South Oak Street\, Lake City MN
UID:e.621.4394
SEQUENCE:3
DTSTAMP:20260425T032550Z
URL:https://public.lakecity.org/events/details/bingo-03-06-2015-4394
END:VEVENT

END:VCALENDAR
