BEGIN:VCALENDAR
VERSION:2.0
PRODID:-//ChamberMaster//Event Calendar 2.0//EN
METHOD:PUBLISH
X-PUBLISHED-TTL:P3D
REFRESH-INTERVAL:P3D
CALSCALE:GREGORIAN
BEGIN:VEVENT
DTSTART:20160319T170000Z
DTEND:20160319T200000Z
X-MICROSOFT-CDO-ALLDAYEVENT:FALSE
SUMMARY:Bingo
DESCRIPTION:Bingo- lunch served from noon to 1:00 pm. Bingo from 1:00 to 3:00 pm.
X-ALT-DESC;FMTTYPE=text/html:Bingo- lunch served from noon to 1:00 pm. Bingo from 1:00 to 3:00 pm.
LOCATION:224 S. Washington St.\, Lake City\, MN
UID:e.621.4781
SEQUENCE:3
DTSTAMP:20260424T084855Z
URL:https://public.lakecity.org/events/details/bingo-03-19-2016-4781
END:VEVENT

END:VCALENDAR
