BEGIN:VCALENDAR
VERSION:2.0
PRODID:-//ChamberMaster//Event Calendar 2.0//EN
METHOD:PUBLISH
X-PUBLISHED-TTL:P3D
REFRESH-INTERVAL:P3D
CALSCALE:GREGORIAN
BEGIN:VEVENT
DTSTART:20150321T000000Z
DTEND:20150321T020000Z
X-MICROSOFT-CDO-ALLDAYEVENT:FALSE
SUMMARY:Bingo
DESCRIPTION:BINGO sponsored by the high school Athletic Booster Club
X-ALT-DESC;FMTTYPE=text/html:BINGO sponsored by the high school Athletic Booster Club
LOCATION:Lake City Sportsman's Club\, South Oak Street\, Lake City MN
UID:e.621.4405
SEQUENCE:3
DTSTAMP:20260425T032548Z
URL:https://public.lakecity.org/events/details/bingo-03-20-2015-4405
END:VEVENT

END:VCALENDAR
