BEGIN:VCALENDAR
VERSION:2.0
PRODID:-//ChamberMaster//Event Calendar 2.0//EN
METHOD:PUBLISH
X-PUBLISHED-TTL:P3D
REFRESH-INTERVAL:P3D
CALSCALE:GREGORIAN
BEGIN:VEVENT
DTSTART:20150711T183000Z
DTEND:20150711T230000Z
X-MICROSOFT-CDO-ALLDAYEVENT:FALSE
SUMMARY:Bingo & Burgers - Officer Schneider Memorial Scholarship Walleye Tournament
DESCRIPTION:Bingo starts at 1:30. Burger Baskets will be available ($5.00) from approx 3:00-6:00 PM. Raffles will be held from 4:00-6:30 pm. with drawings at 6:30. To register for the fishing tournament or for more information contact the Frontenac Sportsman's Club. This event is a cooperative effort of the Lake City Sportsman's Club and the Frontenac Sportsman's Club to raise funds for scholarships in memory of Officer Schneider. All events open to the public. EVERYONE WELCOME!
X-ALT-DESC;FMTTYPE=text/html:Bingo starts at 1:30. Burger Baskets will be available ($5.00) from approx 3:00-6:00 PM. Raffles will be held from 4:00-6:30 pm. with drawings at 6:30. To register for the fishing tournament or for more information contact the Frontenac Sportsman&#39\;s Club. This event is a cooperative effort of the Lake City Sportsman&#39\;s Club and the Frontenac Sportsman&#39\;s Club to raise funds for scholarships in memory of Officer Schneider. All events open to the public. EVERYONE WELCOME!
LOCATION:Lake City Sportsman's Club South Oak Street Lake City MN
UID:e.621.4461
SEQUENCE:3
DTSTAMP:20260424T230114Z
URL:https://public.lakecity.org/events/details/bingo-burgers-officer-schneider-memorial-scholarship-walleye-tournament-07-11-2015-4461
END:VEVENT

END:VCALENDAR
