BEGIN:VCALENDAR
VERSION:2.0
PRODID:-//ChamberMaster//Event Calendar 2.0//EN
METHOD:PUBLISH
X-PUBLISHED-TTL:P3D
REFRESH-INTERVAL:P3D
CALSCALE:GREGORIAN
BEGIN:VEVENT
DTSTART:20140118T190000Z
DTEND:20140118T203000Z
X-MICROSOFT-CDO-ALLDAYEVENT:FALSE
SUMMARY:Black and Blue
DESCRIPTION:Domestic violence awareness with guest speakers Brittany Schneider\, wife of fallen Lake City Police Officer Shawn Schneider\; Karrie Kelly\, assistant Wabasha County Attorney\; Kris Kovol\, executive director of Hope Coalition ? Haven of Hope shelter in Red Wing\; and Jeff Clark\, MA licensed psychologist and certified domestic violence counselor. They will share important information on the many facets of domestic violence and how it has impacted their lives and how their agencies or offices can help. There will be time for questions and answers. Resources will be provided for those seeking treatment or shelter. Light refreshments will be served.
X-ALT-DESC;FMTTYPE=text/html:Domestic violence awareness with guest speakers Brittany Schneider\, wife of fallen Lake City Police Officer Shawn Schneider\; Karrie Kelly\, assistant Wabasha County Attorney\; Kris Kovol\, executive director of Hope Coalition ? Haven of Hope shelter in Red Wing\; and Jeff Clark\, MA licensed psychologist and certified domestic violence counselor. They will share important information on the many facets of domestic violence and how it has impacted their lives and how their agencies or offices can help. There will be time for questions and answers. Resources will be provided for those seeking treatment or shelter. Light refreshments will be served.
LOCATION:First Lutheran Church\, 100 Peace Ridge\, Lake City\, gathering area.
UID:e.621.3427
SEQUENCE:3
DTSTAMP:20260426T031736Z
URL:https://public.lakecity.org/events/details/black-and-blue-01-18-2014-3427
END:VEVENT

END:VCALENDAR
