BEGIN:VCALENDAR
VERSION:2.0
PRODID:-//ChamberMaster//Event Calendar 2.0//EN
METHOD:PUBLISH
X-PUBLISHED-TTL:P3D
REFRESH-INTERVAL:P3D
CALSCALE:GREGORIAN
BEGIN:VEVENT
DTSTART:20141101T150000Z
DTEND:20141101T170000Z
X-MICROSOFT-CDO-ALLDAYEVENT:FALSE
SUMMARY:BLACK and BLUE: A domestic violence awareness event
DESCRIPTION:October is Domestic Violence Awareness Month\, so join the Outreach Board at First Lutheran Church in an event focusing on domestic violence. Speakers will include representatives from the Haven of Hope "Kids Count" program\, an adult speaker sharing her experiences on being a survivor of domestic violence\, and Brittany Schneider will again share her story of how domestic violence impacted her life.
X-ALT-DESC;FMTTYPE=text/html:October is Domestic Violence Awareness Month\, so join the Outreach Board at First Lutheran Church in an event focusing on domestic violence. Speakers will include representatives from the&nbsp\;Haven of Hope &quot\;Kids Count&quot\; program\, an adult speaker sharing her experiences on being a survivor of domestic violence\, and Brittany Schneider will again share her story of how domestic violence impacted her life.
LOCATION:First Lutheran Church 100 Peace Ridge Lake City\, MN 55041
UID:e.621.4305
SEQUENCE:3
DTSTAMP:20260425T111644Z
URL:https://public.lakecity.org/events/details/black-and-blue-a-domestic-violence-awareness-event-11-01-2014-4305
END:VEVENT

END:VCALENDAR
