BEGIN:VCALENDAR
VERSION:2.0
PRODID:-//ChamberMaster//Event Calendar 2.0//EN
METHOD:PUBLISH
X-PUBLISHED-TTL:P3D
REFRESH-INTERVAL:P3D
CALSCALE:GREGORIAN
BEGIN:VEVENT
DTSTART:20150523T150000Z
DTEND:20150523T160000Z
X-MICROSOFT-CDO-ALLDAYEVENT:FALSE
SUMMARY:Blessing of the Boats
DESCRIPTION:The Blessing of the Fleet originated centuries ago in the Mediterranean\, seeking divine intervention to ensure a safe and bountiful fishing season. The tradition thereafter spread to ports throughout Europe and to the New World. It continues to be celebrated throughout the world at the beginning of the boating/fishing season\, asking for the safe return of the ships and boats\, along with their crews\, as they leave port for the open waters. This is the seventh year that the Blessing of the Boats program has been conducted at the Lake City Yacht Club. Whether or not you are a boater\, sailor\, or fisherperson\, you are encouraged to take this opportunity to celebrate the beauty of Lake Pepin as we pray for another safe and enjoyable boating and fishing season.
X-ALT-DESC;FMTTYPE=text/html:The Blessing of the Fleet originated centuries ago in the Mediterranean\, seeking divine intervention to ensure a safe and bountiful fishing season. The tradition thereafter spread to ports throughout Europe and to the New World. It continues to be celebrated throughout the world at the beginning of the boating/fishing season\, asking for the safe return of the ships and boats\, along with their crews\, as they leave port for the open waters. This is the seventh year that the Blessing of the Boats program has been conducted at the Lake City Yacht Club. Whether or not you are a boater\, sailor\, or fisherperson\, you are encouraged to take this opportunity to celebrate the beauty of Lake Pepin as we pray for another safe and enjoyable boating and fishing season.
LOCATION:Lake City Yacht Club attached to the Marina Building. The program will be conducted on the deck\, or inside the Club in the event of rain
UID:e.621.4448
SEQUENCE:3
DTSTAMP:20260425T002651Z
URL:https://public.lakecity.org/events/details/blessing-of-the-boats-05-23-2015-4448
END:VEVENT

END:VCALENDAR
