BEGIN:VCALENDAR
VERSION:2.0
PRODID:-//ChamberMaster//Event Calendar 2.0//EN
METHOD:PUBLISH
X-PUBLISHED-TTL:P3D
REFRESH-INTERVAL:P3D
CALSCALE:GREGORIAN
BEGIN:VEVENT
DTSTART;VALUE=DATE:20150303
DTEND;VALUE=DATE:20150304
TRANSP:TRANSPARENT
X-MICROSOFT-CDO-ALLDAYEVENT:TRUE
SUMMARY:Bob Ross Oil Painting Classes
DESCRIPTION:Start to Finish oil painting on Tuesdays at the Villa. You can choose morning (9:00 am) or evening (6:00 pm) sessions. The painting is Palm Trees. Cost is $50 includes everything. Bob Ross technique is taught by Julie Fjetland\, CRI. Call Julie at 651-345-2311 to register.
X-ALT-DESC;FMTTYPE=text/html:Start to Finish oil painting on Tuesdays at the Villa. You can choose morning (9:00 am) or evening (6:00 pm) sessions. The painting is Palm Trees. Cost is $50 includes everything. Bob Ross technique is taught by Julie Fjetland\, CRI. Call Julie at 651-345-2311 to register.
LOCATION:Villa Maria Retreat and Conference Center\, 29847 County 2\, Blvd\, Frontenac\, MN 55026
UID:e.621.4390
SEQUENCE:3
DTSTAMP:20260425T032948Z
URL:https://public.lakecity.org/events/details/bob-ross-oil-painting-classes-03-03-2015-4390
END:VEVENT

END:VCALENDAR
