BEGIN:VCALENDAR
VERSION:2.0
PRODID:-//ChamberMaster//Event Calendar 2.0//EN
METHOD:PUBLISH
X-PUBLISHED-TTL:P3D
REFRESH-INTERVAL:P3D
CALSCALE:GREGORIAN
BEGIN:VEVENT
DTSTART:20170117T200000Z
DTEND:20170516T200000Z
X-MICROSOFT-CDO-ALLDAYEVENT:FALSE
SUMMARY:Book Tasting at the Lake City Public Library
DESCRIPTION:Join us for a new kind of book discussion! - No pre-assigned books - No registration - Open to all adults with or without library cards - Discussions focus on favorite books or books you're currently reading
X-ALT-DESC;FMTTYPE=text/html:Join us for a new kind of book discussion! - No pre-assigned books - No registration - Open to all adults with or without library cards - Discussions focus on favorite books or books you&#39\;re currently reading
LOCATION:Lake City Public Library 201 S. High Street Lake City\, MN
UID:e.621.5646
SEQUENCE:3
DTSTAMP:20260422T011426Z
URL:https://public.lakecity.org/events/details/book-tasting-at-the-lake-city-public-library-5646
END:VEVENT

END:VCALENDAR
