BEGIN:VCALENDAR
VERSION:2.0
PRODID:-//ChamberMaster//Event Calendar 2.0//EN
METHOD:PUBLISH
X-PUBLISHED-TTL:P3D
REFRESH-INTERVAL:P3D
CALSCALE:GREGORIAN
BEGIN:VEVENT
DTSTART:20161209T140000Z
DTEND:20161209T230000Z
X-MICROSOFT-CDO-ALLDAYEVENT:FALSE
SUMMARY:Books Are Fun
DESCRIPTION:Now Collective Goods Books & Gifts at Great Savings
X-ALT-DESC;FMTTYPE=text/html:Now Collective Goods Books &amp\; Gifts at Great Savings
LOCATION:Mayo Clinic Health System-Lake City Care Center
UID:e.621.5501
SEQUENCE:3
DTSTAMP:20260422T084427Z
URL:https://public.lakecity.org/events/details/books-are-fun-5501
END:VEVENT

END:VCALENDAR
