BEGIN:VCALENDAR
VERSION:2.0
PRODID:-//ChamberMaster//Event Calendar 2.0//EN
METHOD:PUBLISH
X-PUBLISHED-TTL:P3D
REFRESH-INTERVAL:P3D
CALSCALE:GREGORIAN
BEGIN:VEVENT
DTSTART:20160507T150000Z
DTEND:20160528T154500Z
X-MICROSOFT-CDO-ALLDAYEVENT:FALSE
SUMMARY:Boot Camp
DESCRIPTION:Free Boot Camp for any resident in Lake City 12 years of age and older. Every Saturday morning in May.
X-ALT-DESC;FMTTYPE=text/html:Free Boot Camp for any resident in Lake City 12 years of age and older. Every Saturday morning in May.
LOCATION:Anytime Fitness Parking Lot 1205 N 7th St
UID:e.621.5236
SEQUENCE:3
DTSTAMP:20260422T182554Z
URL:https://public.lakecity.org/events/details/boot-camp-05-07-2016-5236
END:VEVENT

END:VCALENDAR
