BEGIN:VCALENDAR
VERSION:2.0
PRODID:-//ChamberMaster//Event Calendar 2.0//EN
METHOD:PUBLISH
X-PUBLISHED-TTL:P3D
REFRESH-INTERVAL:P3D
CALSCALE:GREGORIAN
BEGIN:VEVENT
DTSTART:20161215T233000Z
DTEND:20161216T003000Z
X-MICROSOFT-CDO-ALLDAYEVENT:FALSE
SUMMARY:Branding/Website Seminar
DESCRIPTION:Chamber members are welcome to join us while Vicki Stark from Evans-Stark Design discusses different online options for your business. She'll be covering branding\, web presence\, social media\, and online advertising with Google. We hope to see you there!
X-ALT-DESC;FMTTYPE=text/html:<span style="color: rgb(0\, 0\, 0)\; font-family: Arial\, Helvetica\, sans-serif\; font-size: 12px\;">Chamber members are welcome to join us while Vicki Stark from Evans-Stark Design discusses different online options for your business. She&#39\;ll be covering branding\, web presence\, social media\, and online advertising with Google. We hope to see you there!</span>
LOCATION:Lake City Public Library
UID:e.621.5645
SEQUENCE:3
DTSTAMP:20260422T101427Z
URL:https://public.lakecity.org/events/details/branding-website-seminar-5645
END:VEVENT

END:VCALENDAR
