BEGIN:VCALENDAR
VERSION:2.0
PRODID:-//ChamberMaster//Event Calendar 2.0//EN
METHOD:PUBLISH
X-PUBLISHED-TTL:P3D
REFRESH-INTERVAL:P3D
CALSCALE:GREGORIAN
BEGIN:VEVENT
DTSTART:20140831T010000Z
DTEND:20140831T030000Z
X-MICROSOFT-CDO-ALLDAYEVENT:FALSE
SUMMARY:Breakwater Wine Bar at Sail Pepin
DESCRIPTION:Sail Pepin's Breakwater Jam\n\nLive music
X-ALT-DESC;FMTTYPE=text/html:Sail Pepin&#39\;s Breakwater Jam<br />\nLive music
LOCATION:400 First St. Pepin\, WI
UID:e.621.4287
SEQUENCE:3
DTSTAMP:20260425T155842Z
URL:https://public.lakecity.org/events/details/breakwater-wine-bar-at-sail-pepin-08-30-2014-4287
END:VEVENT

END:VCALENDAR
