BEGIN:VCALENDAR
VERSION:2.0
PRODID:-//ChamberMaster//Event Calendar 2.0//EN
METHOD:PUBLISH
X-PUBLISHED-TTL:P3D
REFRESH-INTERVAL:P3D
CALSCALE:GREGORIAN
BEGIN:VEVENT
DTSTART:20151215T233000Z
DTEND:20151216T020000Z
X-MICROSOFT-CDO-ALLDAYEVENT:FALSE
SUMMARY:Business After Hours
DESCRIPTION:
X-ALT-DESC;FMTTYPE=text/html:<div>&nbsp\;</div><div>&nbsp\;</div>
LOCATION:
UID:e.621.1241
SEQUENCE:3
DTSTAMP:20260424T134035Z
URL:https://public.lakecity.org/events/details/business-after-hours-12-15-2015-1241
END:VEVENT

END:VCALENDAR
