BEGIN:VCALENDAR
VERSION:2.0
PRODID:-//ChamberMaster//Event Calendar 2.0//EN
METHOD:PUBLISH
X-PUBLISHED-TTL:P3D
REFRESH-INTERVAL:P3D
CALSCALE:GREGORIAN
BEGIN:VEVENT
DTSTART:20230525T220000Z
DTEND:20230525T233000Z
X-MICROSOFT-CDO-ALLDAYEVENT:FALSE
SUMMARY:Business After Hours
DESCRIPTION:Join us for Business After Hours in May hosted by Hoppy Girl Brewing.  Buy one\, get one free drink on select drinks and glasses of house wine or house seltzers will be offered. Enjoy light snacks and prize giveaway or two.
X-ALT-DESC;FMTTYPE=text/html:<span style="color: rgb(34\, 34\, 34)\; font-family: Arial\, Helvetica\, sans-serif\; font-size: small\; background-color: rgb(255\, 255\, 255)\;">Join us for Business After Hours in May hosted by Hoppy Girl Brewing.&nbsp\; Buy one\, get one free drink on select drinks and glasses of house wine or house seltzers will be offered. Enjoy light snacks and prize giveaway or two.&nbsp\;</span>
LOCATION:136 Bridge Ave. Wabasha\, MN 55984
UID:e.621.9174
SEQUENCE:3
DTSTAMP:20260421T133902Z
URL:https://public.lakecity.org/events/details/business-after-hours-9174
END:VEVENT

END:VCALENDAR
