BEGIN:VCALENDAR
VERSION:2.0
PRODID:-//ChamberMaster//Event Calendar 2.0//EN
METHOD:PUBLISH
X-PUBLISHED-TTL:P3D
REFRESH-INTERVAL:P3D
CALSCALE:GREGORIAN
BEGIN:VEVENT
DTSTART:20230427T220000Z
DTEND:20230427T233000Z
X-MICROSOFT-CDO-ALLDAYEVENT:FALSE
SUMMARY:Business After Hours at First Alliance Credit Union
DESCRIPTION:Join us at First Alliance Credit Union for the Business After Hours event on Thursday\, April 27 from 5:00 to 6:30p.m.  Come and enjoy Hors D'Oeuvres\, beverages\, games\, and door prizes.
X-ALT-DESC;FMTTYPE=text/html:<span style="color:black\;"><span style="font-family:helvetica\,sans-serif\;"><span style="font-size:10.0pt\;">Join us at First Alliance Credit Union for the Business After Hours event on Thursday\, April 27 from 5:00 to 6:30p.m.&nbsp\; Come and enjoy Hors D&#39\;Oeuvres\, beverages\, games\, and door prizes.</span></span></span>
LOCATION:201 N.8th St. Lake City\, MN 55041
UID:e.621.9171
SEQUENCE:3
DTSTAMP:20260421T134214Z
URL:https://public.lakecity.org/events/details/business-after-hours-at-first-alliance-credit-union-9171
END:VEVENT

END:VCALENDAR
