BEGIN:VCALENDAR
VERSION:2.0
PRODID:-//ChamberMaster//Event Calendar 2.0//EN
METHOD:PUBLISH
X-PUBLISHED-TTL:P3D
REFRESH-INTERVAL:P3D
CALSCALE:GREGORIAN
BEGIN:VEVENT
DTSTART:20171127T233000Z
DTEND:20171128T010000Z
X-MICROSOFT-CDO-ALLDAYEVENT:FALSE
SUMMARY:Business After Hours at The Pearl Button
DESCRIPTION:Join us at the Lake Pepin Pearl Button Co. for the Business After Hours event on Tuesday\, November 28 from 5:30 to 7p.m. This month\, the Lake House on Pepin will be co-hosting the gathering and providing the culinary delights. The store is loaded with great holiday gift ideas and Gallery on the Lake will be full of fun artwork to enjoy. Hope to see you there!
X-ALT-DESC;FMTTYPE=text/html:<span style="color:black\;"><span style="font-family:helvetica\,sans-serif\;"><span style="font-size:10.0pt\;">Join us at the Lake Pepin Pearl Button Co. for the Business After Hours event on Tuesday\, November 28&nbsp\;from 5:30 to 7p.m. This month\, the Lake House on Pepin will be co-hosting the gathering and providing the culinary delights. The store is loaded with great holiday gift ideas and Gallery on the Lake will be full of fun artwork to enjoy. Hope to see you there!</span></span></span>
LOCATION:226 S Washington Street Lake City\, MN 55041
UID:e.621.6793
SEQUENCE:3
DTSTAMP:20260421T151304Z
URL:https://public.lakecity.org/events/details/business-after-hours-at-the-pearl-button-6793
END:VEVENT

END:VCALENDAR
