BEGIN:VCALENDAR
VERSION:2.0
PRODID:-//ChamberMaster//Event Calendar 2.0//EN
METHOD:PUBLISH
X-PUBLISHED-TTL:P3D
REFRESH-INTERVAL:P3D
CALSCALE:GREGORIAN
BEGIN:VEVENT
DTSTART:20260430T220000Z
DTEND:20260430T233000Z
X-MICROSOFT-CDO-ALLDAYEVENT:FALSE
SUMMARY:Business After Hours - Goodhue County Habitat for Humanity
DESCRIPTION:Join us for Business After Hours hosted by Goodhue County Habitat for Humanity on Wednesday\, April 30 from 5:00 6:30 PM in Lake City.\n\n\n\nThis special evening will also feature a Groundbreaking Ceremony at 4:30 PM as Habitat breaks ground on their newest home. We invite you to come early to be part of this exciting milestone and then stay to connect with fellow Chamber members and community professionals.\n\n\n\nEnjoy a relaxed evening of networking\, conversation\, and light refreshments while learning more about the incredible work Habitat for Humanity is doing in our community.\n\n\n\n  1251 Mounds Ct\, Lake City\, MN\n\n  Groundbreaking at 4:30 PM\n\n  Business After Hours 5:00 6:30 PM\n\n\n\nWe hope to see you there!
X-ALT-DESC;FMTTYPE=text/html:Join us for Business After Hours hosted by Goodhue County Habitat for Humanity on Wednesday\, April 30 from 5:00&ndash\;6:30 PM in Lake City.<br />\n<br />\nThis special evening will also feature a Groundbreaking Ceremony at 4:30 PM as Habitat breaks ground on their newest home. We invite you to come early to be part of this exciting milestone and then stay to connect with fellow Chamber members and community professionals.<br />\n<br />\nEnjoy a relaxed evening of networking\, conversation\, and light refreshments while learning more about the incredible work Habitat for Humanity is doing in our community.<br />\n<br />\n&#128205\; 1251 Mounds Ct\, Lake City\, MN<br />\n&#9200\; Groundbreaking at 4:30 PM<br />\n&#9200\; Business After Hours 5:00&ndash\;6:30 PM<br />\n<br />\nWe hope to see you there!
LOCATION:1251 Mounds Ct\, Lake City\, MN 55041
UID:e.621.10233
SEQUENCE:3
DTSTAMP:20260421T155607Z
URL:https://public.lakecity.org/events/details/business-after-hours-goodhue-county-habitat-for-humanity-10233
END:VEVENT

END:VCALENDAR
