BEGIN:VCALENDAR
VERSION:2.0
PRODID:-//ChamberMaster//Event Calendar 2.0//EN
METHOD:PUBLISH
X-PUBLISHED-TTL:P3D
REFRESH-INTERVAL:P3D
CALSCALE:GREGORIAN
BEGIN:VEVENT
DTSTART:20160322T223000Z
DTEND:20160323T000000Z
X-MICROSOFT-CDO-ALLDAYEVENT:FALSE
SUMMARY:Business After Hours: Meet in the Middle
DESCRIPTION:Come join us for our annual Meet in the Middle: Business After Hours. Chamber Members of Lake City and Wabasha are invited to this business networking event at the Reads Landing Brewing Company. Sponsored by EO Johnson Business Technologies.
X-ALT-DESC;FMTTYPE=text/html:Come join us for our annual Meet in the Middle: Business After Hours. Chamber Members of Lake City and Wabasha are invited to this business networking event at the Reads Landing Brewing Company. Sponsored by EO Johnson Business Technologies.
LOCATION:Reads Landing Brewing Company 70555 202nd Ave Reads Landing\, MN 55968
UID:e.621.4766
SEQUENCE:3
DTSTAMP:20260424T085352Z
URL:https://public.lakecity.org/events/details/business-after-hours-meet-in-the-middle-03-22-2016-4766
END:VEVENT

END:VCALENDAR
