BEGIN:VCALENDAR
VERSION:2.0
PRODID:-//ChamberMaster//Event Calendar 2.0//EN
METHOD:PUBLISH
X-PUBLISHED-TTL:P3D
REFRESH-INTERVAL:P3D
CALSCALE:GREGORIAN
BEGIN:VEVENT
DTSTART:20160512T223000Z
DTEND:20160513T000000Z
X-MICROSOFT-CDO-ALLDAYEVENT:FALSE
SUMMARY:Business After Hours: Meet in the Middle
DESCRIPTION:Come join us for our annual Meet in the Middle: Business After Hours. Chamber Members of Lake City and Red Wing are invited to this business networking event at the Mount Frontenac Golf Course.
X-ALT-DESC;FMTTYPE=text/html:<span style="font-size: 16px\;"><span title="">Come join us for our annual Meet in the Middle: Business After Hours. Chamber Members of Lake City and Red Wing are invited to this business networking event at the Mount Frontenac Golf Course.</span> </span>
LOCATION:Mount Frontenac Golf Course 32420 Ski Road Frontenac\, MN 55026
UID:e.621.4767
SEQUENCE:3
DTSTAMP:20260422T183008Z
URL:https://public.lakecity.org/events/details/business-after-hours-meet-in-the-middle-05-12-2016-4767
END:VEVENT

END:VCALENDAR
