BEGIN:VCALENDAR
VERSION:2.0
PRODID:-//ChamberMaster//Event Calendar 2.0//EN
METHOD:PUBLISH
X-PUBLISHED-TTL:P3D
REFRESH-INTERVAL:P3D
CALSCALE:GREGORIAN
BEGIN:VEVENT
DTSTART:20161206T233000Z
DTEND:20161207T010000Z
X-MICROSOFT-CDO-ALLDAYEVENT:FALSE
SUMMARY:Business After Hours with AmericInn
DESCRIPTION:Come see what's new at the AmericInn!!\n\n \n\nPlease join us for Business After Hours with the AmericInn on Tuesday December 6th from 5:30-7:00pm. Enjoy networking with fellow Chamber members over food and drinks.\n\n\n\nHope to see you there!
X-ALT-DESC;FMTTYPE=text/html:<div style="font-family: Arial\, Helvetica\, sans-serif\; color: rgb(0\, 26\, 129)\; font-size: 11pt\;"><strong>Come see what&#39\;s new at the AmericInn!!</strong></div>\n\n<div style="color: rgb(0\, 0\, 0)\; font-family: Arial\, Helvetica\, sans-serif\; font-size: 11pt\;">&nbsp\;</div>\n\n<div style="color: rgb(0\, 0\, 0)\; font-family: Arial\, Helvetica\, sans-serif\; font-size: 11pt\;">Please join us for Business After Hours with the AmericInn on Tuesday December 6th from 5:30-7:00pm. Enjoy networking with fellow Chamber members over food and drinks.<br />\n<br />\nHope to see you there!</div>\n
LOCATION:AmericInn 1615 North lakeshore Drive Lake City\, MN 55041
UID:e.621.5503
SEQUENCE:3
DTSTAMP:20260422T084842Z
URL:https://public.lakecity.org/events/details/business-after-hours-with-americinn-5503
END:VEVENT

END:VCALENDAR
