BEGIN:VCALENDAR
VERSION:2.0
PRODID:-//ChamberMaster//Event Calendar 2.0//EN
METHOD:PUBLISH
X-PUBLISHED-TTL:P3D
REFRESH-INTERVAL:P3D
CALSCALE:GREGORIAN
BEGIN:VEVENT
DTSTART:20161025T223000Z
DTEND:20161026T000000Z
X-MICROSOFT-CDO-ALLDAYEVENT:FALSE
SUMMARY:Business After Hours with Automation Services and Dove Chocolate Discoveries
DESCRIPTION:Please join us for Business After Hours with Automation Services and Dove Chocolate Discoveries on Tuesday October 25 from 5:30-7:00pm. Enjoy networking with fellow Chamber members over food and drinks. Hope to see you there!
X-ALT-DESC;FMTTYPE=text/html:<span style="color: rgb(68\, 68\, 68)\; font-family: &quot\;Open Sans&quot\;\, Helvetica\, sans-serif\; font-size: 14px\;">Please join us for Business After Hours with Automation Services and Dove Chocolate Discoveries&nbsp\;on Tuesday October 25 from 5:30-7:00pm. Enjoy networking with fellow Chamber members over food and drinks. Hope to see you there!</span>
LOCATION:Automation Services 400 10th Street Lake City\, MN 55041
UID:e.621.5476
SEQUENCE:3
DTSTAMP:20260422T115525Z
URL:https://public.lakecity.org/events/details/business-after-hours-with-automation-services-and-dove-chocolate-discoveries-5476
END:VEVENT

END:VCALENDAR
