BEGIN:VCALENDAR
VERSION:2.0
PRODID:-//ChamberMaster//Event Calendar 2.0//EN
METHOD:PUBLISH
X-PUBLISHED-TTL:P3D
REFRESH-INTERVAL:P3D
CALSCALE:GREGORIAN
BEGIN:VEVENT
DTSTART:20170725T223000Z
DTEND:20170726T000000Z
X-MICROSOFT-CDO-ALLDAYEVENT:FALSE
SUMMARY:Business After Hours with Mediacom
DESCRIPTION:Please join us for Business After Hours with Mediacom on Tuesday\, July 25 from 5:30 to 7:00 p.m. Enjoy networking with fellow Chamber members over food and drinks at Port 104.
X-ALT-DESC;FMTTYPE=text/html:Please join us for Business After Hours with Mediacom on Tuesday\, July 25 from 5:30 to 7:00 p.m. Enjoy networking with fellow Chamber members over food and drinks at Port 104.
LOCATION:Port 104 104 N. Washington St. Lake City\, MN 55041
UID:e.621.5749
SEQUENCE:3
DTSTAMP:20260421T220144Z
URL:https://public.lakecity.org/events/details/business-after-hours-with-mediacom-5749
END:VEVENT

END:VCALENDAR
