BEGIN:VCALENDAR
VERSION:2.0
PRODID:-//ChamberMaster//Event Calendar 2.0//EN
METHOD:PUBLISH
X-PUBLISHED-TTL:P3D
REFRESH-INTERVAL:P3D
CALSCALE:GREGORIAN
BEGIN:VEVENT
DTSTART:20160927T223000Z
DTEND:20160928T000000Z
X-MICROSOFT-CDO-ALLDAYEVENT:FALSE
SUMMARY:Business After Hours with Musty Barnhart Agency
DESCRIPTION:Please join us for Business After Hours with Musty Barnhart Agency on Tuesday September 27\, 2016 from 5:30-7:00pm. Enjoy networking with fellow Chamber members over food and drinks. Hope to see you there!
X-ALT-DESC;FMTTYPE=text/html:Please join us for Business After Hours with Musty Barnhart Agency on Tuesday September 27\, 2016 from 5:30-7:00pm. Enjoy networking with fellow Chamber members over food and drinks. Hope to see you there!
LOCATION:The Rivage 101 S Washington St. Lake City\, MN 55041
UID:e.621.5443
SEQUENCE:3
DTSTAMP:20260422T132017Z
URL:https://public.lakecity.org/events/details/business-after-hours-with-musty-barnhart-agency-5443
END:VEVENT

END:VCALENDAR
