BEGIN:VCALENDAR
VERSION:2.0
PRODID:-//ChamberMaster//Event Calendar 2.0//EN
METHOD:PUBLISH
X-PUBLISHED-TTL:P3D
REFRESH-INTERVAL:P3D
CALSCALE:GREGORIAN
BEGIN:VEVENT
DTSTART:20170926T223000Z
DTEND:20170927T000000Z
X-MICROSOFT-CDO-ALLDAYEVENT:FALSE
SUMMARY:Business After Hours with Musty Barnhart Agency
DESCRIPTION:Please join us for Business After Hours with Musty Barnhart Agency on Tuesday\, September 26 from 5:30-7:00 p.m. Enjoy networking with fellow Chamber members over food and drinks on the Rivage Rooftop Deck.\n\nHope to see you there!
X-ALT-DESC;FMTTYPE=text/html:Please join us for Business After Hours with Musty Barnhart Agency on Tuesday\, September 26&nbsp\;from 5:30-7:00 p.m.&nbsp\;Enjoy networking with fellow Chamber members over food and drinks on the Rivage Rooftop Deck.<br />\nHope to see you there!
LOCATION:The Rivage Rooftop Deck 101 S Washington St. Lake City\, MN 55041
UID:e.621.5486
SEQUENCE:3
DTSTAMP:20260421T183748Z
URL:https://public.lakecity.org/events/details/business-after-hours-with-musty-barnhart-agency-5486
END:VEVENT

END:VCALENDAR
