BEGIN:VCALENDAR
VERSION:2.0
PRODID:-//ChamberMaster//Event Calendar 2.0//EN
METHOD:PUBLISH
X-PUBLISHED-TTL:P3D
REFRESH-INTERVAL:P3D
CALSCALE:GREGORIAN
BEGIN:VEVENT
DTSTART:20170426T223000Z
DTEND:20170427T000000Z
X-MICROSOFT-CDO-ALLDAYEVENT:FALSE
SUMMARY:Business After Hours with The Jewel Golf Club
DESCRIPTION:Please join us for Business After Hours with The Jewel on Wednesday\, April 26th from 5:30 to 7:00 p.m. Enjoy networking with fellow Chamber members over food and drinks at The Jewel Golf Club.
X-ALT-DESC;FMTTYPE=text/html:<span style="color: rgb(49\, 54\, 57)\; font-family: Arial\, Helvetica\, sans-serif\; font-size: 13.3333px\;">Please join us for Business After Hours with The Jewel on Wednesday\,&nbsp\;April 26th from 5:30 to 7:00 p.m. Enjoy networking with fellow Chamber members over food and drinks at The Jewel Golf Club.&nbsp\;</span>
LOCATION:The Jewel Golf Club 1900 Clubhouse Drive Lake City\, MN 55041
UID:e.621.5719
SEQUENCE:3
DTSTAMP:20260422T025927Z
URL:https://public.lakecity.org/events/details/business-after-hours-with-the-jewel-golf-club-5719
END:VEVENT

END:VCALENDAR
