BEGIN:VCALENDAR
VERSION:2.0
PRODID:-//ChamberMaster//Event Calendar 2.0//EN
METHOD:PUBLISH
X-PUBLISHED-TTL:P3D
REFRESH-INTERVAL:P3D
CALSCALE:GREGORIAN
BEGIN:VEVENT
DTSTART:20160205T000000Z
DTEND:20160205T013000Z
X-MICROSOFT-CDO-ALLDAYEVENT:FALSE
SUMMARY:Business and Economic Development Forums
DESCRIPTION:Join us as Heather Holmes\, vice president of marketing for Rochester Area Economic Development\, Inc. (RAEDI)\, describes how DMC (Destination Medical Center) and Journey to Growth (J2G) will impact our region and the opportunities it presents for Lake City.\n\n\n \n\nJ2G is a five-year economic development plan created to diversify a regional economy now 40 percent dependent on one employer\, namely\, Mayo Clinic Health System.
X-ALT-DESC;FMTTYPE=text/html:<span style="font-size: 14pt\;">Join us as Heather Holmes\, vice president of marketing for Rochester Area Economic Development\, Inc. (RAEDI)\, describes how DMC (Destination Medical Center)&nbsp\;and Journey to Growth (J2G) will impact our region and the opportunities it presents for Lake City.</span>\n\n<div>\n<div>&nbsp\;</div>\n\n<div style="font-size: 14pt\;">J2G is a&nbsp\;five-year economic development plan created to diversify a regional economy now 40 percent dependent on one employer\, namely\, Mayo Clinic Health System.</div>\n</div>\n
LOCATION:NOSH 310 S Washington St Lake City\, MN 55041
UID:e.621.4555
SEQUENCE:3
DTSTAMP:20260424T101615Z
URL:https://public.lakecity.org/events/details/business-and-economic-development-forums-02-04-2016-4555
END:VEVENT

END:VCALENDAR
