BEGIN:VCALENDAR
VERSION:2.0
PRODID:-//ChamberMaster//Event Calendar 2.0//EN
METHOD:PUBLISH
X-PUBLISHED-TTL:P3D
REFRESH-INTERVAL:P3D
CALSCALE:GREGORIAN
BEGIN:VEVENT
DTSTART:20150317T123000Z
DTEND:20150317T140000Z
X-MICROSOFT-CDO-ALLDAYEVENT:FALSE
SUMMARY:Business Before Hours
DESCRIPTION:Join the Chamber of Commerce for Business Before Hours sponsored by the Lake City Food Shelf.  Click to register.  Hope to see you there!
X-ALT-DESC;FMTTYPE=text/html:Join the Chamber of Commerce for Business Before Hours sponsored by the Lake City Food Shelf.&nbsp\; Click to register.&nbsp\; Hope to see you there!
LOCATION:
UID:e.621.4396
SEQUENCE:3
DTSTAMP:20260425T032710Z
URL:https://public.lakecity.org/events/details/business-before-hours-03-17-2015-4396
END:VEVENT

END:VCALENDAR
