BEGIN:VCALENDAR
VERSION:2.0
PRODID:-//ChamberMaster//Event Calendar 2.0//EN
METHOD:PUBLISH
X-PUBLISHED-TTL:P3D
REFRESH-INTERVAL:P3D
CALSCALE:GREGORIAN
BEGIN:VEVENT
DTSTART:20140422T123000Z
DTEND:20140422T140000Z
X-MICROSOFT-CDO-ALLDAYEVENT:FALSE
SUMMARY:Business Before Hours
DESCRIPTION:Business Before Hours!
X-ALT-DESC;FMTTYPE=text/html:Business <em>Before </em>Hours!
LOCATION:American Family Insurance - Jessica Nelson Agency 100 W. Lyon Ave.\, Suite 102 Lake City
UID:e.621.3158
SEQUENCE:3
DTSTAMP:20260425T205958Z
URL:https://public.lakecity.org/events/details/business-before-hours-04-22-2014-3158
END:VEVENT

END:VCALENDAR
