BEGIN:VCALENDAR
VERSION:2.0
PRODID:-//ChamberMaster//Event Calendar 2.0//EN
METHOD:PUBLISH
X-PUBLISHED-TTL:P3D
REFRESH-INTERVAL:P3D
CALSCALE:GREGORIAN
BEGIN:VEVENT
DTSTART:20161122T133000Z
DTEND:20161122T150000Z
X-MICROSOFT-CDO-ALLDAYEVENT:FALSE
SUMMARY:Business Before Hours with England Law Office
DESCRIPTION:Please join us for Business Before Hours with England Law Office on Tuesday November 22 from 7:30am - 9:00am. Enjoy networking with fellow Chamber members over breakfast snacks and beverages. Hope to see you there!
X-ALT-DESC;FMTTYPE=text/html:Please join us for Business Before Hours with England Law Office on Tuesday November 22 from 7:30am - 9:00am. Enjoy networking with fellow Chamber members over breakfast snacks and beverages. Hope to see you there!
LOCATION:England Law Office 104 South Washington Street Lake City\, MN 55041
UID:e.621.5477
SEQUENCE:3
DTSTAMP:20260422T115144Z
URL:https://public.lakecity.org/events/details/business-before-hours-with-england-law-office-5477
END:VEVENT

END:VCALENDAR
