BEGIN:VCALENDAR
VERSION:2.0
PRODID:-//ChamberMaster//Event Calendar 2.0//EN
METHOD:PUBLISH
X-PUBLISHED-TTL:P3D
REFRESH-INTERVAL:P3D
CALSCALE:GREGORIAN
BEGIN:VEVENT
DTSTART:20170822T123000Z
DTEND:20170822T140000Z
X-MICROSOFT-CDO-ALLDAYEVENT:FALSE
SUMMARY:Business Before Hours with Hok-Si-La
DESCRIPTION:Please join us for Business Before Hours with Hok-Si-La. Enjoy morning snacks\, networking with fellow Chamber members\, and viewing the cabins.
X-ALT-DESC;FMTTYPE=text/html:<span style="font-size: 14pt\;"><span style="font-family: arial\,sans-serif\;"><span style="color: black\;">Please join us for Business Before Hours with Hok-Si-La. Enjoy morning snacks\, networking with fellow Chamber members\, and viewing the cabins.</span></span></span><br />\n&nbsp\;
LOCATION:Hok-Si-La Municipal Park and Campground 2500 US-61 Lake City\, MN 55041
UID:e.621.5483
SEQUENCE:3
DTSTAMP:20260421T202638Z
URL:https://public.lakecity.org/events/details/business-before-hours-with-hok-si-la-5483
END:VEVENT

END:VCALENDAR
