BEGIN:VCALENDAR
VERSION:2.0
PRODID:-//ChamberMaster//Event Calendar 2.0//EN
METHOD:PUBLISH
X-PUBLISHED-TTL:P3D
REFRESH-INTERVAL:P3D
CALSCALE:GREGORIAN
BEGIN:VEVENT
DTSTART:20160225T133000Z
DTEND:20160225T150000Z
X-MICROSOFT-CDO-ALLDAYEVENT:FALSE
SUMMARY:Business Before Hours with Pat Lowther Law
DESCRIPTION:Please join us for Business Before Hours with Pat Lowther Law on Thursday February 25\, 2016 from 7:30am - 9:00am.  Enjoy morning snacks and networking with fellow Chamber members.
X-ALT-DESC;FMTTYPE=text/html:<span style="font-family: Arial\,Helvetica\,sans-serif\; font-size: 12pt\;">Please join us for Business Before Hours with Pat Lowther Law on Thursday February 25\, 2016 from 7:30am - 9:00am.&nbsp\; Enjoy morning snacks and networking with fellow Chamber members.</span>
LOCATION:
UID:e.621.4764
SEQUENCE:3
DTSTAMP:20260424T103535Z
URL:https://public.lakecity.org/events/details/business-before-hours-with-pat-lowther-law-02-25-2016-4764
END:VEVENT

END:VCALENDAR
