BEGIN:VCALENDAR
VERSION:2.0
PRODID:-//ChamberMaster//Event Calendar 2.0//EN
METHOD:PUBLISH
X-PUBLISHED-TTL:P3D
REFRESH-INTERVAL:P3D
CALSCALE:GREGORIAN
BEGIN:VEVENT
DTSTART:20160823T123000Z
DTEND:20160823T140000Z
X-MICROSOFT-CDO-ALLDAYEVENT:FALSE
SUMMARY:Business Before Hours with Pearl of the Lake
DESCRIPTION:Please join us for Business Before Hours with the Pearl of the Lake Paddleboat on Tuesday August 23\, 2016 from 7:30am - 9:00am. Enjoy morning snacks and networking with fellow Chamber members.
X-ALT-DESC;FMTTYPE=text/html:<span style="font-size: 16px\;"><span style="font-family: arial\;">Please join us for Business Before Hours with the Pearl of the Lake Paddleboat&nbsp\;on Tuesday&nbsp\;August 23\, 2016&nbsp\;from 7:30am - 9:00am. Enjoy morning snacks and networking with fellow Chamber members. </span></span>
LOCATION:Pearl of the Lake Paddleboat Docked at Willows on the River Condos 100 Center Point Road Lake City\, MN 55041
UID:e.621.4771
SEQUENCE:3
DTSTAMP:20260422T155614Z
URL:https://public.lakecity.org/events/details/business-before-hours-with-pearl-of-the-lake-08-23-2016-4771
END:VEVENT

END:VCALENDAR
