BEGIN:VCALENDAR
VERSION:2.0
PRODID:-//ChamberMaster//Event Calendar 2.0//EN
METHOD:PUBLISH
X-PUBLISHED-TTL:P3D
REFRESH-INTERVAL:P3D
CALSCALE:GREGORIAN
BEGIN:VEVENT
DTSTART:20160426T123000Z
DTEND:20160426T140000Z
X-MICROSOFT-CDO-ALLDAYEVENT:FALSE
SUMMARY:Business Before Hours with The Bluffs of Lake City
DESCRIPTION:Please join us for Business Before Hours with The Bluffs of Lake City on Tuesday April 26\, 2016 from 7:30am - 9:00am.  Enjoy morning snacks and networking with fellow Chamber members.
X-ALT-DESC;FMTTYPE=text/html:<span style="font-family: Arial\,Helvetica\,sans-serif\; font-size: 12pt\;">Please join us for Business Before Hours with The Bluffs of Lake City on&nbsp\;Tuesday April 26\, 2016 from 7:30am - 9:00am.&nbsp\; Enjoy morning snacks and networking with fellow Chamber members.</span>
LOCATION:The Bluffs of Lake City 480 West Grant Street Lake City\, MN 55041
UID:e.621.4765
SEQUENCE:3
DTSTAMP:20260422T200435Z
URL:https://public.lakecity.org/events/details/business-before-hours-with-the-bluffs-of-lake-city-04-26-2016-4765
END:VEVENT

END:VCALENDAR
