BEGIN:VCALENDAR
VERSION:2.0
PRODID:-//ChamberMaster//Event Calendar 2.0//EN
METHOD:PUBLISH
X-PUBLISHED-TTL:P3D
REFRESH-INTERVAL:P3D
CALSCALE:GREGORIAN
BEGIN:VEVENT
DTSTART:20170228T133000Z
DTEND:20170228T150000Z
X-MICROSOFT-CDO-ALLDAYEVENT:FALSE
SUMMARY:Business Before Hours with The Bluffs of Lake City
DESCRIPTION:Please join us for Business Before Hours with the Bluffs of Lake City on Tuesday February 28th from 7:30am - 9:00am. Enjoy networking with fellow Chamber members over breakfast\, snacks\, and beverages. Hope to see you there!
X-ALT-DESC;FMTTYPE=text/html:<span style="font-family: Arial\, Helvetica\, sans-serif\; font-size: 12px\;">Please join us for Business Before Hours with the Bluffs of Lake City on Tuesday February 28th from 7:30am - 9:00am. Enjoy networking with fellow Chamber members over breakfast\, snacks\, and beverages. Hope to see you there!</span>
LOCATION:
UID:e.621.5482
SEQUENCE:3
DTSTAMP:20260422T060213Z
URL:https://public.lakecity.org/events/details/business-before-hours-with-the-bluffs-of-lake-city-5482
END:VEVENT

END:VCALENDAR
