BEGIN:VCALENDAR
VERSION:2.0
PRODID:-//ChamberMaster//Event Calendar 2.0//EN
METHOD:PUBLISH
X-PUBLISHED-TTL:P3D
REFRESH-INTERVAL:P3D
CALSCALE:GREGORIAN
BEGIN:VEVENT
DTSTART:20160402T150000Z
DTEND:20160402T170000Z
X-MICROSOFT-CDO-ALLDAYEVENT:FALSE
SUMMARY:Call for Artists!
DESCRIPTION:1st Lutheran Church is hosting a two day art show that includes all mediums for all ages! The two day art show (April 9-10th) relates to a Sunday afternoon concert (Gabriel Faure's Requiem (4/10). We are looking for art work that is spiritually uplifting. (no size/medium restrictions).
X-ALT-DESC;FMTTYPE=text/html:1st Lutheran Church is hosting a two day art show that includes all mediums for all ages! The two day art show (April 9-10th) relates to a Sunday afternoon concert (Gabriel Faure&#39\;s Requiem (4/10). We are looking for art work that is spiritually uplifting. (no size/medium restrictions).
LOCATION:1st Lutheran Church
UID:e.621.4777
SEQUENCE:3
DTSTAMP:20260422T195814Z
URL:https://public.lakecity.org/events/details/call-for-artists-04-02-2016-4777
END:VEVENT

END:VCALENDAR
