BEGIN:VCALENDAR
VERSION:2.0
PRODID:-//ChamberMaster//Event Calendar 2.0//EN
METHOD:PUBLISH
X-PUBLISHED-TTL:P3D
REFRESH-INTERVAL:P3D
CALSCALE:GREGORIAN
BEGIN:VEVENT
DTSTART:20160111T213000Z
DTEND:20160111T223000Z
X-MICROSOFT-CDO-ALLDAYEVENT:FALSE
SUMMARY:Caregiver Support Group
DESCRIPTION:Are you living with or caring for someone with Alzheimer?s or another type of memory loss? You are not alone. Over 5 million Americans are living with Alzheimer?s disease. Alzheimer?s and dementia take a devastating toll\, not just on those with the disease but also on their caregivers. Our support group is for those who are in need of emotional\, educational and social support for their role as caregiver. There will also be learning opportunities for developing methods and skills to solve problems that arise when caring for someone with dementia. It is a safe and confidential environment.
X-ALT-DESC;FMTTYPE=text/html:Are you living with or caring for someone with Alzheimer?s or another type of memory loss? You are not alone. Over 5 million Americans are living with Alzheimer?s disease. Alzheimer?s and dementia take a devastating toll\, not just on those with the disease but also on their caregivers. Our support group is for those who are in need of emotional\, educational and social support for their role as caregiver. There will also be learning opportunities for developing methods and skills to solve problems that arise when caring for someone with dementia. It is a safe and confidential environment.
LOCATION:The Bluffs of Lake City 480 West Grant Street | Lake City\, MN Private Dining Room.
UID:e.621.4539
SEQUENCE:3
DTSTAMP:20260424T120128Z
URL:https://public.lakecity.org/events/details/caregiver-support-group-01-11-2016-4539
END:VEVENT

END:VCALENDAR
