BEGIN:VCALENDAR
VERSION:2.0
PRODID:-//ChamberMaster//Event Calendar 2.0//EN
METHOD:PUBLISH
X-PUBLISHED-TTL:P3D
REFRESH-INTERVAL:P3D
CALSCALE:GREGORIAN
BEGIN:VEVENT
DTSTART:20161020T183000Z
DTEND:20161021T010000Z
X-MICROSOFT-CDO-ALLDAYEVENT:FALSE
SUMMARY:Caring for An Aging Adult
DESCRIPTION:Join us for an information session featuring Assistant Executive Director at The Bluffs of Lake City Jennie Niss. She will discuss resources and services available to help seniors stay safe at home. She will also address how to start planning for senior care and the signs that indicate it's time to start thinking about a move. Registration required.
X-ALT-DESC;FMTTYPE=text/html:Join us for an information session featuring Assistant Executive Director at The Bluffs of Lake City Jennie Niss. She will discuss resources and services available to help seniors stay safe at home. She will also address how to start planning for senior care and the signs that indicate it&#39\;s time to start thinking about a move. Registration required.
LOCATION:Lake City Public Library 201 South High Street Lake City\, MN
UID:e.621.5423
SEQUENCE:3
DTSTAMP:20260422T115344Z
URL:https://public.lakecity.org/events/details/caring-for-an-aging-adult-10-20-2016-5423
END:VEVENT

END:VCALENDAR
