BEGIN:VCALENDAR
VERSION:2.0
PRODID:-//ChamberMaster//Event Calendar 2.0//EN
METHOD:PUBLISH
X-PUBLISHED-TTL:P3D
REFRESH-INTERVAL:P3D
CALSCALE:GREGORIAN
BEGIN:VEVENT
DTSTART:20160422T230000Z
DTEND:20160424T160000Z
X-MICROSOFT-CDO-ALLDAYEVENT:FALSE
SUMMARY:Celebrate Women Retreat
DESCRIPTION:Theme: Creative Light for your Spiritual Journey Keynote: Amy Egenberger\, M. Ed\, CPCC Amy is an educator\, artist\, life coach and founder of Spirit Out! Coaching in Minneapolis\, MN. She is passionate about the beauty of people finding their truest creative path. For more information visit our website or Facebook page.
X-ALT-DESC;FMTTYPE=text/html:Theme: Creative Light for your Spiritual Journey Keynote: Amy Egenberger\, M. Ed\, CPCC Amy is an educator\, artist\, life coach and founder of Spirit Out! Coaching in Minneapolis\, MN. She is passionate about the beauty of people finding their truest creative path. For more information visit our website or Facebook page.
LOCATION:Villa Maria Retreat and Conference Center 29847 County 2 Blvd. Frontenac\, MN 55026
UID:e.621.4548
SEQUENCE:3
DTSTAMP:20260422T200144Z
URL:https://public.lakecity.org/events/details/celebrate-women-retreat-04-22-2016-4548
END:VEVENT

END:VCALENDAR
