BEGIN:VCALENDAR
VERSION:2.0
PRODID:-//ChamberMaster//Event Calendar 2.0//EN
METHOD:PUBLISH
X-PUBLISHED-TTL:P3D
REFRESH-INTERVAL:P3D
CALSCALE:GREGORIAN
BEGIN:VEVENT
DTSTART:20150321T000000Z
DTEND:20150321T010000Z
X-MICROSOFT-CDO-ALLDAYEVENT:FALSE
SUMMARY:Chad Lewis: Haunted Minnesota
DESCRIPTION:Get ready for a scary evening of bizarre ghosts\, wicked spirits\, and deadly poltergeists as Chad Lewis has combined all of his scariest cases into one creepy presentation for the  general public at the Lake City Historical Society.
X-ALT-DESC;FMTTYPE=text/html:<span style="color: black\; font-family: &quot\;Times New Roman&quot\;\,&quot\;serif&quot\;\; font-size: 12pt\; mso-fareast-font-family: &quot\;Times New Roman&quot\;\; mso-ansi-language: EN-US\; mso-fareast-language: EN-US\; mso-bidi-language: AR-SA\;">Get ready for a scary&nbsp\;evening of bizarre ghosts\, wicked spirits\, and deadly poltergeists as&nbsp\;Chad Lewis has&nbsp\;combined all of&nbsp\;his scariest cases into one creepy presentation for the&nbsp\; general public at the Lake City Historical Society.&nbsp\;</span>
LOCATION:Lake City Historical Society City Hall 205 W. Center St. Lake City\, MN 55041
UID:e.621.4398
SEQUENCE:3
DTSTAMP:20260425T032758Z
URL:https://public.lakecity.org/events/details/chad-lewis-haunted-minnesota-03-20-2015-4398
END:VEVENT

END:VCALENDAR
